BEGIN:VCALENDAR
VERSION:2.0
PRODID:-//eventon.com NONSGML v1.0//EN
CALSCALE:GREGORIAN
METHOD:PUBLISH
BEGIN:VEVENT
UID:69e7482c920d8
DTSTAMP:20260421T094932
DTSTART:20210417
DTEND:20210418
TZID:Pacific/Midway
LOCATION:
SUMMARY:14U NCIS BEST OF THE WEST GAMES
DESCRIPTION:Two 9-inning games at OC Great Park as part of National Championships Identification Series that includes player testing and evaluations. Will play one game Saturday and one game Sunday\,  cost is $70 per player paid online.\nhttps://bluewaveathletics.com/events/14u-ncis-best-of-the-west-games/
URL:https://bluewaveathletics.com/events/14u-ncis-best-of-the-west-games/
END:VEVENT
END:VCALENDAR