BEGIN:VCALENDAR
VERSION:2.0
PRODID:-//eventon.com NONSGML v1.0//EN
CALSCALE:GREGORIAN
METHOD:PUBLISH
BEGIN:VEVENT
UID:69e74c936a952
DTSTAMP:20260421T100819
DTSTART:20201001T170000Z
DTEND:20201001T183000Z
TZID:UTC
LOCATION:
SUMMARY:Blue Wave 13U Hitting Practice
DESCRIPTION:Blue Wave 13U Hitting with Coach Aron Garcia is each Thursday at the cages at the OC Great Park in Irvine.\nhttps://bluewaveathletics.com/events/blue-wave-13u-hitting-practice/
URL:https://bluewaveathletics.com/events/blue-wave-13u-hitting-practice/
END:VEVENT
END:VCALENDAR