BEGIN:VCALENDAR
VERSION:2.0
PRODID:-//eventon.com NONSGML v1.0//EN
CALSCALE:GREGORIAN
METHOD:PUBLISH
BEGIN:VEVENT
UID:69e7478487b0c
DTSTAMP:20260421T094644
DTSTART:20191226T170000Z
DTEND:20191226T183000Z
TZID:UTC
LOCATION:
SUMMARY:14U HITTING PRACTICE
DESCRIPTION:Hitting in batting cages at Northwood High School.\nhttps://bluewaveathletics.com/events/14u-hitting-practice/
URL:https://bluewaveathletics.com/events/14u-hitting-practice/
END:VEVENT
END:VCALENDAR